BEGIN:VCALENDAR
VERSION:2.0
PRODID:-//TPMA - ECPv6.15.20//NONSGML v1.0//EN
CALSCALE:GREGORIAN
METHOD:PUBLISH
X-WR-CALNAME:TPMA
X-ORIGINAL-URL:https://www.tpma-inc.com
X-WR-CALDESC:Events for TPMA
REFRESH-INTERVAL;VALUE=DURATION:PT1H
X-Robots-Tag:noindex
X-PUBLISHED-TTL:PT1H
BEGIN:VTIMEZONE
TZID:America/Indiana/Indianapolis
BEGIN:DAYLIGHT
TZOFFSETFROM:-0500
TZOFFSETTO:-0400
TZNAME:EDT
DTSTART:20230312T070000
END:DAYLIGHT
BEGIN:STANDARD
TZOFFSETFROM:-0400
TZOFFSETTO:-0500
TZNAME:EST
DTSTART:20231105T060000
END:STANDARD
BEGIN:DAYLIGHT
TZOFFSETFROM:-0500
TZOFFSETTO:-0400
TZNAME:EDT
DTSTART:20240310T070000
END:DAYLIGHT
BEGIN:STANDARD
TZOFFSETFROM:-0400
TZOFFSETTO:-0500
TZNAME:EST
DTSTART:20241103T060000
END:STANDARD
BEGIN:DAYLIGHT
TZOFFSETFROM:-0500
TZOFFSETTO:-0400
TZNAME:EDT
DTSTART:20250309T070000
END:DAYLIGHT
BEGIN:STANDARD
TZOFFSETFROM:-0400
TZOFFSETTO:-0500
TZNAME:EST
DTSTART:20251102T060000
END:STANDARD
END:VTIMEZONE
BEGIN:VEVENT
DTSTART;TZID=America/Indiana/Indianapolis:20240626T150000
DTEND;TZID=America/Indiana/Indianapolis:20240626T160000
DTSTAMP:20260425T124807
CREATED:20240617T162554Z
LAST-MODIFIED:20240617T162554Z
UID:52987-1719414000-1719417600@www.tpma-inc.com
SUMMARY:Attracting + Retaining Talent for Childcare and Early Learning
DESCRIPTION:It is critical that job quality improves for the childcare and early learning workforce; otherwise\, the sectors and the families they serve will continue to struggle. According to the latest data\, these sectors are still down about 40\,000 workers compared to pre-covid levels. Join us as we discuss strategies for attracting and retaining talent for childcare and early learning with state and local leaders. See you there!
URL:https://www.tpma-inc.com/event/attracting-retaining-talent-for-childcare-and-early-learning/
LOCATION:Zoom
END:VEVENT
BEGIN:VEVENT
DTSTART;TZID=America/Indiana/Indianapolis:20240508T150000
DTEND;TZID=America/Indiana/Indianapolis:20240508T160000
DTSTAMP:20260425T124807
CREATED:20240429T212640Z
LAST-MODIFIED:20240429T212640Z
UID:52566-1715180400-1715184000@www.tpma-inc.com
SUMMARY:Innovative Solutions to Address the Growing Housing Crisis
DESCRIPTION:We are in a housing crisis.\nThe U.S. is short millions of housing units\, home prices are up 60% from a decade ago\, and renters are spending more than a third of their salaries on housing costs. Join us as we take a fresh look at innovative solutions to the housing crisis with leaders who have embraced housing problem solving at a comprehensive\, system wide level. See you there!
URL:https://www.tpma-inc.com/event/innovative-solutions-to-address-the-growing-housing-crisis/
LOCATION:Zoom
ATTACH;FMTTYPE=image/png:https://www.tpma-inc.com/wp-content/uploads/2024/04/LinkedIn-Innovative-Solutions-to-Address-the-Growing-Housing-Crisis_Headshots_2-1.png
END:VEVENT
END:VCALENDAR